BEGIN:VCALENDAR
VERSION:2.0
PRODID:-//193.239.44.119//NONSGML kigkonsult.se iCalcreator 2.20//
CALSCALE:GREGORIAN
METHOD:PUBLISH
X-WR-TIMEZONE:Europe/Warsaw
BEGIN:VEVENT
UID:event3808@Parafia Rzymskokatolicka Najświętszego Serca Jezusowego w Łęc
 zu - Salezjanie
DTSTAMP:20260421T114139Z
CATEGORIES:Msza Święta
DESCRIPTION:+ Grażyna Żochowska (7 Msza Gregoriańska)\nKategoria: Msza Świę
 ta\nLink: https://www.lecze-salezjanie.pl/index.php?option=com_jem&view=ev
 ent&id=3808:grazyna-zochowska-7-msza-gregorianska\n
DTSTART;TZID=Europe/Warsaw:20260507T170000
DTEND;TZID=Europe/Warsaw:20260507T170000
LOCATION:Kościół Maryi Wspomożycielki Wiernych w Suchaczu\,Kielecka 12B\,Su
 chacz
SUMMARY:+ Grażyna Żochowska (7 Msza Gregoriańska)
URL:https://www.lecze-salezjanie.pl/index.php?option=com_jem&view=event&id=
 3808:grazyna-zochowska-7-msza-gregorianska
END:VEVENT
END:VCALENDAR