BEGIN:VCALENDAR
VERSION:2.0
PRODID:-//193.239.44.119//NONSGML kigkonsult.se iCalcreator 2.20//
CALSCALE:GREGORIAN
METHOD:PUBLISH
X-WR-TIMEZONE:Europe/Warsaw
BEGIN:VEVENT
UID:event3809@Parafia Rzymskokatolicka Najświętszego Serca Jezusowego w Łęc
 zu - Salezjanie
DTSTAMP:20260421T114129Z
CATEGORIES:Msza Święta
DESCRIPTION:+ Wanda\, Maria\, Władysław\nKategoria: Msza Święta\nLink: http
 s://www.lecze-salezjanie.pl/index.php?option=com_jem&view=event&id=3809:wa
 nda-maria-wladyslaw\n
DTSTART;TZID=Europe/Warsaw:20260510T090000
DTEND;TZID=Europe/Warsaw:20260510T090000
LOCATION:Kościół Maryi Wspomożycielki Wiernych w Suchaczu\,Kielecka 12B\,Su
 chacz
SUMMARY:+ Wanda\, Maria\, Władysław
URL:https://www.lecze-salezjanie.pl/index.php?option=com_jem&view=event&id=
 3809:wanda-maria-wladyslaw
END:VEVENT
END:VCALENDAR