BEGIN:VCALENDAR
VERSION:2.0
PRODID:-//193.239.44.119//NONSGML kigkonsult.se iCalcreator 2.20//
CALSCALE:GREGORIAN
METHOD:PUBLISH
X-WR-TIMEZONE:Europe/Warsaw
BEGIN:VEVENT
UID:event3811@Parafia Rzymskokatolicka Najświętszego Serca Jezusowego w Łęc
 zu - Salezjanie
DTSTAMP:20260421T113148Z
CATEGORIES:Msza Święta
DESCRIPTION:+ Bertrand (28 Msza Gregoriańska)\nKategoria: Msza Święta\nLink
 : https://www.lecze-salezjanie.pl/index.php?option=com_jem&view=event&id=3
 811:bertrand-28-msza-gregorianska\n
DTSTART;TZID=Europe/Warsaw:20260510T120000
DTEND;TZID=Europe/Warsaw:20260510T120000
LOCATION:Świetlica Wiejska w Kamionku Wielkim\,Kamionek Wielki 5B\,Kamionek
  Wielki
SUMMARY:+ Bertrand (28 Msza Gregoriańska)
URL:https://www.lecze-salezjanie.pl/index.php?option=com_jem&view=event&id=
 3811:bertrand-28-msza-gregorianska
END:VEVENT
END:VCALENDAR