BEGIN:VCALENDAR
VERSION:2.0
PRODID:-//193.239.44.119//NONSGML kigkonsult.se iCalcreator 2.20//
CALSCALE:GREGORIAN
METHOD:PUBLISH
X-WR-TIMEZONE:Europe/Warsaw
BEGIN:VEVENT
UID:event3816@Parafia Rzymskokatolicka Najświętszego Serca Jezusowego w Łęc
 zu - Salezjanie
DTSTAMP:20260421T113148Z
CATEGORIES:Msza Święta
DESCRIPTION:+ Bertrand (22 Msza Gregoriańska)\nKategoria: Msza Święta\nLink
 : https://www.lecze-salezjanie.pl/index.php?option=com_jem&view=event&id=3
 816:bertrand-22-msza-gregorianska\n
DTSTART;TZID=Europe/Warsaw:20260504T170000
DTEND;TZID=Europe/Warsaw:20260504T170000
LOCATION:Kościół Najświętszego Serca Jezusowego w Łęczu\,Łęcze 48\,Łęcze
SUMMARY:+ Bertrand (22 Msza Gregoriańska)
URL:https://www.lecze-salezjanie.pl/index.php?option=com_jem&view=event&id=
 3816:bertrand-22-msza-gregorianska
END:VEVENT
END:VCALENDAR