BEGIN:VCALENDAR
VERSION:2.0
PRODID:-//193.239.44.119//NONSGML kigkonsult.se iCalcreator 2.20//
CALSCALE:GREGORIAN
METHOD:PUBLISH
X-WR-TIMEZONE:Europe/Warsaw
BEGIN:VEVENT
UID:event3824@Parafia Rzymskokatolicka Najświętszego Serca Jezusowego w Łęc
 zu - Salezjanie
DTSTAMP:20260421T114505Z
CATEGORIES:Msza Święta
DESCRIPTION:+ Marian Pawlak - intencja od uczestników pogrzebu\nKategoria: 
 Msza Święta\nLink: https://www.lecze-salezjanie.pl/index.php?option=com_je
 m&view=event&id=3824:marian-pawlak-intencja-od-uczestnikow-pogrzebu\n
DTSTART;TZID=Europe/Warsaw:20260509T170000
DTEND;TZID=Europe/Warsaw:20260509T170000
LOCATION:Kościół Najświętszego Serca Jezusowego w Łęczu\,Łęcze 48\,Łęcze
SUMMARY:+ Marian Pawlak - intencja od uczestników pogrzebu
URL:https://www.lecze-salezjanie.pl/index.php?option=com_jem&view=event&id=
 3824:marian-pawlak-intencja-od-uczestnikow-pogrzebu
END:VEVENT
END:VCALENDAR