BEGIN:VCALENDAR
VERSION:2.0
PRODID:-//193.239.44.119//NONSGML kigkonsult.se iCalcreator 2.20//
CALSCALE:GREGORIAN
METHOD:PUBLISH
X-WR-TIMEZONE:Europe/Warsaw
BEGIN:VEVENT
UID:event3826@Parafia Rzymskokatolicka Najświętszego Serca Jezusowego w Łęc
 zu - Salezjanie
DTSTAMP:20260421T114022Z
CATEGORIES:Msza Święta
DESCRIPTION:+ Grażyna Żochowska (9 Msza Gregoriańska)\nKategoria: Msza Świę
 ta\nLink: https://www.lecze-salezjanie.pl/index.php?option=com_jem&view=ev
 ent&id=3826:grazyna-zochowska-9-msza-gregorianska\n
DTSTART;TZID=Europe/Warsaw:20260509T170000
DTEND;TZID=Europe/Warsaw:20260509T170000
LOCATION:Kościół Najświętszego Serca Jezusowego w Łęczu\,Łęcze 48\,Łęcze
SUMMARY:+ Grażyna Żochowska (9 Msza Gregoriańska)
URL:https://www.lecze-salezjanie.pl/index.php?option=com_jem&view=event&id=
 3826:grazyna-zochowska-9-msza-gregorianska
END:VEVENT
END:VCALENDAR