BEGIN:VCALENDAR
VERSION:2.0
PRODID:-//193.239.44.119//NONSGML kigkonsult.se iCalcreator 2.20//
CALSCALE:GREGORIAN
METHOD:PUBLISH
X-WR-TIMEZONE:Europe/Warsaw
BEGIN:VEVENT
UID:event3827@Parafia Rzymskokatolicka Najświętszego Serca Jezusowego w Łęc
 zu - Salezjanie
DTSTAMP:20260421T114505Z
CATEGORIES:Msza Święta
DESCRIPTION:+ Stanisław i Zbigniew Grączewscy oraz śp. Teresa Kocur\nKatego
 ria: Msza Święta\nLink: https://www.lecze-salezjanie.pl/index.php?option=c
 om_jem&view=event&id=3827:stanislaw-i-zbigniew-graczewscy-oraz-sp-teresa-k
 ocur\n
DTSTART;TZID=Europe/Warsaw:20260510T090000
DTEND;TZID=Europe/Warsaw:20260510T090000
LOCATION:Kościół Najświętszego Serca Jezusowego w Łęczu\,Łęcze 48\,Łęcze
SUMMARY:+ Stanisław i Zbigniew Grączewscy oraz śp. Teresa Kocur
URL:https://www.lecze-salezjanie.pl/index.php?option=com_jem&view=event&id=
 3827:stanislaw-i-zbigniew-graczewscy-oraz-sp-teresa-kocur
END:VEVENT
END:VCALENDAR