BEGIN:VCALENDAR
VERSION:2.0
PRODID:-//193.239.44.119//NONSGML kigkonsult.se iCalcreator 2.20//
CALSCALE:GREGORIAN
METHOD:PUBLISH
X-WR-TIMEZONE:Europe/Warsaw
BEGIN:VEVENT
UID:event3829@Parafia Rzymskokatolicka Najświętszego Serca Jezusowego w Łęc
 zu - Salezjanie
DTSTAMP:20260421T131517Z
CATEGORIES:Chrzest
DESCRIPTION:Chrzest: Franciszka Szulima. O Boże błogosławieństwo dla Franci
 szka\, jego rodziców\, chrzestnych i zaproszonych Gości\nKategoria: Chrzes
 t\nLink: https://www.lecze-salezjanie.pl/index.php?option=com_jem&view=eve
 nt&id=3829:chrzest-franciszka-szulima-o-boze-blogoslawienstwo-dla-francisz
 ka-jego-rodzicow-chrzestnych-i-zaproszonych-gosci\n
DTSTART;TZID=Europe/Warsaw:20260510T120000
DTEND;TZID=Europe/Warsaw:20260510T120000
LOCATION:Kościół Najświętszego Serca Jezusowego w Łęczu\,Łęcze 48\,Łęcze
SUMMARY:Chrzest: Franciszka Szulima. O Boże błogosławieństwo dla Franciszka
 \, jego rodziców\, chrzestnych i zaproszonych Gości
URL:https://www.lecze-salezjanie.pl/index.php?option=com_jem&view=event&id=
 3829:chrzest-franciszka-szulima-o-boze-blogoslawienstwo-dla-franciszka-jeg
 o-rodzicow-chrzestnych-i-zaproszonych-gosci
END:VEVENT
END:VCALENDAR