BEGIN:VCALENDAR
VERSION:2.0
PRODID:-//193.239.44.119//NONSGML kigkonsult.se iCalcreator 2.20//
CALSCALE:GREGORIAN
METHOD:PUBLISH
X-WR-TIMEZONE:Europe/Warsaw
BEGIN:VEVENT
UID:event3837@Parafia Rzymskokatolicka Najświętszego Serca Jezusowego w Łęc
 zu - Salezjanie
DTSTAMP:20260421T114113Z
CATEGORIES:Msza Święta
DESCRIPTION:O łaskę uzdrowienia dla Olgi\nKategoria: Msza Święta\nLink: htt
 ps://www.lecze-salezjanie.pl/index.php?option=com_jem&view=event&id=3837:o
 -laske-uzdrowienia-dla-olgi\n
DTSTART;TZID=Europe/Warsaw:20260516T170000
DTEND;TZID=Europe/Warsaw:20260516T170000
LOCATION:Kościół Najświętszego Serca Jezusowego w Łęczu\,Łęcze 48\,Łęcze
SUMMARY:O łaskę uzdrowienia dla Olgi
URL:https://www.lecze-salezjanie.pl/index.php?option=com_jem&view=event&id=
 3837:o-laske-uzdrowienia-dla-olgi
END:VEVENT
END:VCALENDAR