BEGIN:VCALENDAR
VERSION:2.0
PRODID:-//193.239.44.119//NONSGML kigkonsult.se iCalcreator 2.20//
CALSCALE:GREGORIAN
METHOD:PUBLISH
X-WR-TIMEZONE:Europe/Warsaw
BEGIN:VEVENT
UID:event3841@Parafia Rzymskokatolicka Najświętszego Serca Jezusowego w Łęc
 zu - Salezjanie
DTSTAMP:20260421T114458Z
CATEGORIES:Msza Święta
DESCRIPTION:+ Jerzy Machciński w rocznicę śmierci oraz śp. rodziców z obojg
 a stron\nKategoria: Msza Święta\nLink: https://www.lecze-salezjanie.pl/ind
 ex.php?option=com_jem&view=event&id=3841:jerzy-machcinski-w-rocznice-smier
 ci-oraz-sp-rodzicow-z-obojga-stron\n
DTSTART;TZID=Europe/Warsaw:20260517T090000
DTEND;TZID=Europe/Warsaw:20260517T090000
LOCATION:Kościół Najświętszego Serca Jezusowego w Łęczu\,Łęcze 48\,Łęcze
SUMMARY:+ Jerzy Machciński w rocznicę śmierci oraz śp. rodziców z obojga st
 ron
URL:https://www.lecze-salezjanie.pl/index.php?option=com_jem&view=event&id=
 3841:jerzy-machcinski-w-rocznice-smierci-oraz-sp-rodzicow-z-obojga-stron
END:VEVENT
END:VCALENDAR