BEGIN:VCALENDAR
VERSION:2.0
PRODID:-//193.239.44.119//NONSGML kigkonsult.se iCalcreator 2.20//
CALSCALE:GREGORIAN
METHOD:PUBLISH
X-WR-TIMEZONE:Europe/Warsaw
BEGIN:VEVENT
UID:event3842@Parafia Rzymskokatolicka Najświętszego Serca Jezusowego w Łęc
 zu - Salezjanie
DTSTAMP:20260421T113241Z
CATEGORIES:Msza Święta
DESCRIPTION:+ Stanisław Chrząszcz\nKategoria: Msza Święta\nLink: https://ww
 w.lecze-salezjanie.pl/index.php?option=com_jem&view=event&id=3842:stanisla
 w-chrzaszcz\n
DTSTART;TZID=Europe/Warsaw:20260517T120000
DTEND;TZID=Europe/Warsaw:20260517T120000
LOCATION:Kościół Najświętszego Serca Jezusowego w Łęczu\,Łęcze 48\,Łęcze
SUMMARY:+ Stanisław Chrząszcz
URL:https://www.lecze-salezjanie.pl/index.php?option=com_jem&view=event&id=
 3842:stanislaw-chrzaszcz
END:VEVENT
END:VCALENDAR