BEGIN:VCALENDAR
VERSION:2.0
PRODID:-//193.239.44.119//NONSGML kigkonsult.se iCalcreator 2.20//
CALSCALE:GREGORIAN
METHOD:PUBLISH
X-WR-TIMEZONE:Europe/Warsaw
BEGIN:VEVENT
UID:event3843@Parafia Rzymskokatolicka Najświętszego Serca Jezusowego w Łęc
 zu - Salezjanie
DTSTAMP:20260421T114716Z
CATEGORIES:Msza Święta
DESCRIPTION:O Boże błogosławieństwo dla dzieci\, którze przezywają dziś roc
 znicę I Komunii Świętej\nKategoria: Msza Święta\nLink: https://www.lecze-s
 alezjanie.pl/index.php?option=com_jem&view=event&id=3843:o-boze-blogoslawi
 enstwo-dla-dzieci-ktorze-przezywaja-dzis-rocznice-i-komunii-swietej\n
DTSTART;TZID=Europe/Warsaw:20260517T120000
DTEND;TZID=Europe/Warsaw:20260517T120000
LOCATION:Kościół Najświętszego Serca Jezusowego w Łęczu\,Łęcze 48\,Łęcze
SUMMARY:O Boże błogosławieństwo dla dzieci\, którze przezywają dziś rocznic
 ę I Komunii Świętej
URL:https://www.lecze-salezjanie.pl/index.php?option=com_jem&view=event&id=
 3843:o-boze-blogoslawienstwo-dla-dzieci-ktorze-przezywaja-dzis-rocznice-i-
 komunii-swietej
END:VEVENT
END:VCALENDAR