BEGIN:VCALENDAR
VERSION:2.0
PRODID:-//193.239.44.119//NONSGML kigkonsult.se iCalcreator 2.20//
CALSCALE:GREGORIAN
METHOD:PUBLISH
X-WR-TIMEZONE:Europe/Warsaw
BEGIN:VEVENT
UID:event3846@Parafia Rzymskokatolicka Najświętszego Serca Jezusowego w Łęc
 zu - Salezjanie
DTSTAMP:20260421T114248Z
CATEGORIES:Msza Święta
DESCRIPTION:+ Andrzej i Mieczysław Ciemniewscy\nKategoria: Msza Święta\nLin
 k: https://www.lecze-salezjanie.pl/index.php?option=com_jem&view=event&id=
 3846:andrzej-i-mieczyslaw-ciemniewscy\n
DTSTART;TZID=Europe/Warsaw:20260518T170000
DTEND;TZID=Europe/Warsaw:20260518T170000
LOCATION:Kościół Najświętszego Serca Jezusowego w Łęczu\,Łęcze 48\,Łęcze
SUMMARY:+ Andrzej i Mieczysław Ciemniewscy
URL:https://www.lecze-salezjanie.pl/index.php?option=com_jem&view=event&id=
 3846:andrzej-i-mieczyslaw-ciemniewscy
END:VEVENT
END:VCALENDAR