BEGIN:VCALENDAR
VERSION:2.0
PRODID:-//193.239.44.119//NONSGML kigkonsult.se iCalcreator 2.20//
CALSCALE:GREGORIAN
METHOD:PUBLISH
X-WR-TIMEZONE:Europe/Warsaw
BEGIN:VEVENT
UID:event3849@Parafia Rzymskokatolicka Najświętszego Serca Jezusowego w Łęc
 zu - Salezjanie
DTSTAMP:20260421T114114Z
CATEGORIES:Msza Święta
DESCRIPTION:+ Grażyna Żochowska (20 Msza Gregoriańska)\nKategoria: Msza Świ
 ęta\nLink: https://www.lecze-salezjanie.pl/index.php?option=com_jem&view=e
 vent&id=3849:grazyna-zochowska-20-msza-gregorianska\n
DTSTART;TZID=Europe/Warsaw:20260520T170000
DTEND;TZID=Europe/Warsaw:20260520T170000
LOCATION:Kościół Najświętszego Serca Jezusowego w Łęczu\,Łęcze 48\,Łęcze
SUMMARY:+ Grażyna Żochowska (20 Msza Gregoriańska)
URL:https://www.lecze-salezjanie.pl/index.php?option=com_jem&view=event&id=
 3849:grazyna-zochowska-20-msza-gregorianska
END:VEVENT
END:VCALENDAR