BEGIN:VCALENDAR
VERSION:2.0
PRODID:-//193.239.44.119//NONSGML kigkonsult.se iCalcreator 2.20//
CALSCALE:GREGORIAN
METHOD:PUBLISH
X-WR-TIMEZONE:Europe/Warsaw
BEGIN:VEVENT
UID:event3852@Parafia Rzymskokatolicka Najświętszego Serca Jezusowego w Łęc
 zu - Salezjanie
DTSTAMP:20260421T114752Z
CATEGORIES:Msza Święta
DESCRIPTION:O Boże błogosławieństwo dla dzieci Pierwszokomunijnych\, ich ro
 dziców\, rodziny i Gości\nKategoria: Msza Święta\nLink: https://www.lecze-
 salezjanie.pl/index.php?option=com_jem&view=event&id=3852:o-boze-blogoslaw
 ienstwo-dla-dzieci-pierwszokomunijnych-ich-rodzicow-rodziny-i-gosci\n
DTSTART;TZID=Europe/Warsaw:20260523T120000
DTEND;TZID=Europe/Warsaw:20260523T120000
LOCATION:Kościół Najświętszego Serca Jezusowego w Łęczu\,Łęcze 48\,Łęcze
SUMMARY:O Boże błogosławieństwo dla dzieci Pierwszokomunijnych\, ich rodzic
 ów\, rodziny i Gości
URL:https://www.lecze-salezjanie.pl/index.php?option=com_jem&view=event&id=
 3852:o-boze-blogoslawienstwo-dla-dzieci-pierwszokomunijnych-ich-rodzicow-r
 odziny-i-gosci
END:VEVENT
END:VCALENDAR