BEGIN:VCALENDAR
VERSION:2.0
PRODID:-//193.239.44.119//NONSGML kigkonsult.se iCalcreator 2.20//
CALSCALE:GREGORIAN
METHOD:PUBLISH
X-WR-TIMEZONE:Europe/Warsaw
BEGIN:VEVENT
UID:event3855@Parafia Rzymskokatolicka Najświętszego Serca Jezusowego w Łęc
 zu - Salezjanie
DTSTAMP:20260421T114540Z
CATEGORIES:Msza Święta
DESCRIPTION:+ Janina Maria Grączewska - intencja od uczestników pogrzebu\nK
 ategoria: Msza Święta\nLink: https://www.lecze-salezjanie.pl/index.php?opt
 ion=com_jem&view=event&id=3855:janina-maria-graczewska-intencja-od-uczestn
 ikow-pogrzebu\n
DTSTART;TZID=Europe/Warsaw:20260524T090000
DTEND;TZID=Europe/Warsaw:20260524T090000
LOCATION:Kościół Najświętszego Serca Jezusowego w Łęczu\,Łęcze 48\,Łęcze
SUMMARY:+ Janina Maria Grączewska - intencja od uczestników pogrzebu
URL:https://www.lecze-salezjanie.pl/index.php?option=com_jem&view=event&id=
 3855:janina-maria-graczewska-intencja-od-uczestnikow-pogrzebu
END:VEVENT
END:VCALENDAR