BEGIN:VCALENDAR
VERSION:2.0
PRODID:-//193.239.44.119//NONSGML kigkonsult.se iCalcreator 2.20//
CALSCALE:GREGORIAN
METHOD:PUBLISH
X-WR-TIMEZONE:Europe/Warsaw
BEGIN:VEVENT
UID:event3856@Parafia Rzymskokatolicka Najświętszego Serca Jezusowego w Łęc
 zu - Salezjanie
DTSTAMP:20260421T114635Z
CATEGORIES:Msza Święta
DESCRIPTION:Z okazji Dnia matki za śp. Irenę Wieczerzak i Irenę Listkowską
 \nKategoria: Msza Święta\nLink: https://www.lecze-salezjanie.pl/index.php?
 option=com_jem&view=event&id=3856:z-okazji-dnia-matki-za-sp-irene-wieczerz
 ak-i-irene-listkowska\n
DTSTART;TZID=Europe/Warsaw:20260524T120000
DTEND;TZID=Europe/Warsaw:20260524T120000
LOCATION:Kościół Najświętszego Serca Jezusowego w Łęczu\,Łęcze 48\,Łęcze
SUMMARY:Z okazji Dnia matki za śp. Irenę Wieczerzak i Irenę Listkowską
URL:https://www.lecze-salezjanie.pl/index.php?option=com_jem&view=event&id=
 3856:z-okazji-dnia-matki-za-sp-irene-wieczerzak-i-irene-listkowska
END:VEVENT
END:VCALENDAR