BEGIN:VCALENDAR
VERSION:2.0
PRODID:-//193.239.44.119//NONSGML kigkonsult.se iCalcreator 2.20//
CALSCALE:GREGORIAN
METHOD:PUBLISH
X-WR-TIMEZONE:Europe/Warsaw
BEGIN:VEVENT
UID:event3865@Parafia Rzymskokatolicka Najświętszego Serca Jezusowego w Łęc
 zu - Salezjanie
DTSTAMP:20260421T114458Z
CATEGORIES:Msza Święta
DESCRIPTION:+ Jadwiga Dołgoruki i zmarli z rodzin Dołgorukich i Downar\nKat
 egoria: Msza Święta\nLink: https://www.lecze-salezjanie.pl/index.php?optio
 n=com_jem&view=event&id=3865:jadwiga-dolgoruki-i-zmarli-z-rodzin-dolgoruki
 ch-i-downar\n
DTSTART;TZID=Europe/Warsaw:20260531T090000
DTEND;TZID=Europe/Warsaw:20260531T090000
LOCATION:Kościół Najświętszego Serca Jezusowego w Łęczu\,Łęcze 48\,Łęcze
SUMMARY:+ Jadwiga Dołgoruki i zmarli z rodzin Dołgorukich i Downar
URL:https://www.lecze-salezjanie.pl/index.php?option=com_jem&view=event&id=
 3865:jadwiga-dolgoruki-i-zmarli-z-rodzin-dolgorukich-i-downar
END:VEVENT
END:VCALENDAR