BEGIN:VCALENDAR
VERSION:2.0
PRODID:-//193.239.44.119//NONSGML kigkonsult.se iCalcreator 2.20//
CALSCALE:GREGORIAN
METHOD:PUBLISH
X-WR-TIMEZONE:Europe/Warsaw
BEGIN:VEVENT
UID:event3866@Parafia Rzymskokatolicka Najświętszego Serca Jezusowego w Łęc
 zu - Salezjanie
DTSTAMP:20260421T114709Z
CATEGORIES:Msza Święta
DESCRIPTION:+ Władysława (f) Surowiec - intencja od wnuczki Marzeny z mężem
 \nKategoria: Msza Święta\nLink: https://www.lecze-salezjanie.pl/index.php?
 option=com_jem&view=event&id=3866:wladyslawa-f-surowiec-intencja-od-wnuczk
 i-marzeny-z-mezem\n
DTSTART;TZID=Europe/Warsaw:20260531T120000
DTEND;TZID=Europe/Warsaw:20260531T120000
LOCATION:Kościół Najświętszego Serca Jezusowego w Łęczu\,Łęcze 48\,Łęcze
SUMMARY:+ Władysława (f) Surowiec - intencja od wnuczki Marzeny z mężem
URL:https://www.lecze-salezjanie.pl/index.php?option=com_jem&view=event&id=
 3866:wladyslawa-f-surowiec-intencja-od-wnuczki-marzeny-z-mezem
END:VEVENT
END:VCALENDAR