BEGIN:VCALENDAR
VERSION:2.0
PRODID:-//193.239.44.119//NONSGML kigkonsult.se iCalcreator 2.20//
CALSCALE:GREGORIAN
METHOD:PUBLISH
X-WR-TIMEZONE:Europe/Warsaw
BEGIN:VEVENT
UID:event3793@Parafia Rzymskokatolicka Najświętszego Serca Jezusowego w Łęc
 zu - Salezjanie
DTSTAMP:20260421T114848Z
CATEGORIES:Msza Święta
DESCRIPTION:+ Irena Gładkowska (3 Msza Gregoriańska)\nKategoria: Msza Święt
 a\nLink: https://www.lecze-salezjanie.pl/index.php?option=com_jem&view=eve
 nt&id=3793:irena-gladkowska-3-msza-gregorianska\n
DTSTART;TZID=Europe/Warsaw:20260503T090000
DTEND;TZID=Europe/Warsaw:20260503T090000
LOCATION:Kościół Maryi Wspomożycielki Wiernych w Suchaczu\,Kielecka 12B\,Su
 chacz\,Poland
SUMMARY:+ Irena Gładkowska (3 Msza Gregoriańska)
URL:https://www.lecze-salezjanie.pl/index.php?option=com_jem&view=event&id=
 3793:irena-gladkowska-3-msza-gregorianska
END:VEVENT
BEGIN:VEVENT
UID:event3809@Parafia Rzymskokatolicka Najświętszego Serca Jezusowego w Łęc
 zu - Salezjanie
DTSTAMP:20260421T114848Z
CATEGORIES:Msza Święta
DESCRIPTION:+ Wanda\, Maria\, Władysław\nKategoria: Msza Święta\nLink: http
 s://www.lecze-salezjanie.pl/index.php?option=com_jem&view=event&id=3809:wa
 nda-maria-wladyslaw\n
DTSTART;TZID=Europe/Warsaw:20260510T090000
DTEND;TZID=Europe/Warsaw:20260510T090000
LOCATION:Kościół Maryi Wspomożycielki Wiernych w Suchaczu\,Kielecka 12B\,Su
 chacz\,Poland
SUMMARY:+ Wanda\, Maria\, Władysław
URL:https://www.lecze-salezjanie.pl/index.php?option=com_jem&view=event&id=
 3809:wanda-maria-wladyslaw
END:VEVENT
BEGIN:VEVENT
UID:event3787@Parafia Rzymskokatolicka Najświętszego Serca Jezusowego w Łęc
 zu - Salezjanie
DTSTAMP:20260421T114848Z
CATEGORIES:Msza Święta
DESCRIPTION:+ Włodzimierz Simiński - w 30 dzień od pogrzebu\nKategoria: Msz
 a Święta\nLink: https://www.lecze-salezjanie.pl/index.php?option=com_jem&v
 iew=event&id=3787:wlodzimierz-siminski-w-30-dzien-od-pogrzebu\n
DTSTART;TZID=Europe/Warsaw:20260426T090000
DTEND;TZID=Europe/Warsaw:20260426T090000
LOCATION:Kościół Maryi Wspomożycielki Wiernych w Suchaczu\,Kielecka 12B\,Su
 chacz\,Poland
SUMMARY:+ Włodzimierz Simiński - w 30 dzień od pogrzebu
URL:https://www.lecze-salezjanie.pl/index.php?option=com_jem&view=event&id=
 3787:wlodzimierz-siminski-w-30-dzien-od-pogrzebu
END:VEVENT
BEGIN:VEVENT
UID:event3810@Parafia Rzymskokatolicka Najświętszego Serca Jezusowego w Łęc
 zu - Salezjanie
DTSTAMP:20260421T114848Z
CATEGORIES:Msza Święta
DESCRIPTION:+ Irena Gładkowska (10 Msza Gregoriańska)\nKategoria: Msza Świę
 ta\nLink: https://www.lecze-salezjanie.pl/index.php?option=com_jem&view=ev
 ent&id=3810:irena-gladkowska-10-msza-gregorianska\n
DTSTART;TZID=Europe/Warsaw:20260510T103000
DTEND;TZID=Europe/Warsaw:20260510T103000
LOCATION:Kościół Maryi Wspomożycielki Wiernych w Suchaczu\,Kielecka 12B\,Su
 chacz\,Poland
SUMMARY:+ Irena Gładkowska (10 Msza Gregoriańska)
URL:https://www.lecze-salezjanie.pl/index.php?option=com_jem&view=event&id=
 3810:irena-gladkowska-10-msza-gregorianska
END:VEVENT
BEGIN:VEVENT
UID:event3794@Parafia Rzymskokatolicka Najświętszego Serca Jezusowego w Łęc
 zu - Salezjanie
DTSTAMP:20260421T114848Z
CATEGORIES:Msza Święta
DESCRIPTION:+ Teresa i Tadeusz Sowińscy i zmarli rodzice z obojga stron\nKa
 tegoria: Msza Święta\nLink: https://www.lecze-salezjanie.pl/index.php?opti
 on=com_jem&view=event&id=3794:teresa-i-tadeusz-sowinscy-i-zmarli-rodzice-z
 -obojga-stron\n
DTSTART;TZID=Europe/Warsaw:20260503T103000
DTEND;TZID=Europe/Warsaw:20260503T103000
LOCATION:Kościół Maryi Wspomożycielki Wiernych w Suchaczu\,Kielecka 12B\,Su
 chacz\,Poland
SUMMARY:+ Teresa i Tadeusz Sowińscy i zmarli rodzice z obojga stron
URL:https://www.lecze-salezjanie.pl/index.php?option=com_jem&view=event&id=
 3794:teresa-i-tadeusz-sowinscy-i-zmarli-rodzice-z-obojga-stron
END:VEVENT
BEGIN:VEVENT
UID:event3801@Parafia Rzymskokatolicka Najświętszego Serca Jezusowego w Łęc
 zu - Salezjanie
DTSTAMP:20260421T114848Z
CATEGORIES:Msza Święta
DESCRIPTION:+ Teresa i Tadeusz Sowińscy i zmarli rodzice z obojga stron\nKa
 tegoria: Msza Święta\nLink: https://www.lecze-salezjanie.pl/index.php?opti
 on=com_jem&view=event&id=3801:teresa-i-tadeusz-sowinscy-i-zmarli-rodzice-z
 -obojga-stron\n
DTSTART;TZID=Europe/Warsaw:20260503T103000
DTEND;TZID=Europe/Warsaw:20260503T103000
LOCATION:Kościół Maryi Wspomożycielki Wiernych w Suchaczu\,Kielecka 12B\,Su
 chacz\,Poland
SUMMARY:+ Teresa i Tadeusz Sowińscy i zmarli rodzice z obojga stron
URL:https://www.lecze-salezjanie.pl/index.php?option=com_jem&view=event&id=
 3801:teresa-i-tadeusz-sowinscy-i-zmarli-rodzice-z-obojga-stron
END:VEVENT
BEGIN:VEVENT
UID:event3788@Parafia Rzymskokatolicka Najświętszego Serca Jezusowego w Łęc
 zu - Salezjanie
DTSTAMP:20260421T114848Z
CATEGORIES:Msza Święta
DESCRIPTION:+ Wanda Fabisiak - w 6 rocznicę śmierci oraz zmarli z rodziny\n
 Kategoria: Msza Święta\nLink: https://www.lecze-salezjanie.pl/index.php?op
 tion=com_jem&view=event&id=3788:wanda-fabisiak-w-6-rocznice-smierci-oraz-z
 marli-z-rodziny\n
DTSTART;TZID=Europe/Warsaw:20260426T103000
DTEND;TZID=Europe/Warsaw:20260426T103000
LOCATION:Kościół Maryi Wspomożycielki Wiernych w Suchaczu\,Kielecka 12B\,Su
 chacz\,Poland
SUMMARY:+ Wanda Fabisiak - w 6 rocznicę śmierci oraz zmarli z rodziny
URL:https://www.lecze-salezjanie.pl/index.php?option=com_jem&view=event&id=
 3788:wanda-fabisiak-w-6-rocznice-smierci-oraz-zmarli-z-rodziny
END:VEVENT
BEGIN:VEVENT
UID:event3786@Parafia Rzymskokatolicka Najświętszego Serca Jezusowego w Łęc
 zu - Salezjanie
DTSTAMP:20260421T114848Z
CATEGORIES:Msza Święta
DESCRIPTION:+ Bertrand (11 Msza Gregoriańska)\nKategoria: Msza Święta\nLink
 : https://www.lecze-salezjanie.pl/index.php?option=com_jem&view=event&id=3
 786:bertrand-11-msza-gregorianska\n
DTSTART;TZID=Europe/Warsaw:20260423T170000
DTEND;TZID=Europe/Warsaw:20260423T170000
LOCATION:Kościół Maryi Wspomożycielki Wiernych w Suchaczu\,Kielecka 12B\,Su
 chacz\,Poland
SUMMARY:+ Bertrand (11 Msza Gregoriańska)
URL:https://www.lecze-salezjanie.pl/index.php?option=com_jem&view=event&id=
 3786:bertrand-11-msza-gregorianska
END:VEVENT
BEGIN:VEVENT
UID:event3790@Parafia Rzymskokatolicka Najświętszego Serca Jezusowego w Łęc
 zu - Salezjanie
DTSTAMP:20260421T114848Z
CATEGORIES:Msza Święta
DESCRIPTION:+ Bertrand (16 Msza Gregoriańska)\nKategoria: Msza Święta\nLink
 : https://www.lecze-salezjanie.pl/index.php?option=com_jem&view=event&id=3
 790:bertrand-16-msza-gregorianska\n
DTSTART;TZID=Europe/Warsaw:20260428T170000
DTEND;TZID=Europe/Warsaw:20260428T170000
LOCATION:Kościół Maryi Wspomożycielki Wiernych w Suchaczu\,Kielecka 12B\,Su
 chacz\,Poland
SUMMARY:+ Bertrand (16 Msza Gregoriańska)
URL:https://www.lecze-salezjanie.pl/index.php?option=com_jem&view=event&id=
 3790:bertrand-16-msza-gregorianska
END:VEVENT
BEGIN:VEVENT
UID:event3791@Parafia Rzymskokatolicka Najświętszego Serca Jezusowego w Łęc
 zu - Salezjanie
DTSTAMP:20260421T114848Z
CATEGORIES:Msza Święta
DESCRIPTION:+ Bertrand (18 Msza Gregoriańska)\nKategoria: Msza Święta\nLink
 : https://www.lecze-salezjanie.pl/index.php?option=com_jem&view=event&id=3
 791:bertrand-18-msza-gregorianska\n
DTSTART;TZID=Europe/Warsaw:20260430T170000
DTEND;TZID=Europe/Warsaw:20260430T170000
LOCATION:Kościół Maryi Wspomożycielki Wiernych w Suchaczu\,Kielecka 12B\,Su
 chacz\,Poland
SUMMARY:+ Bertrand (18 Msza Gregoriańska)
URL:https://www.lecze-salezjanie.pl/index.php?option=com_jem&view=event&id=
 3791:bertrand-18-msza-gregorianska
END:VEVENT
BEGIN:VEVENT
UID:event3804@Parafia Rzymskokatolicka Najświętszego Serca Jezusowego w Łęc
 zu - Salezjanie
DTSTAMP:20260421T114848Z
CATEGORIES:Msza Święta
DESCRIPTION:+ Bertrand (23 Msza Gregoriańska)\nKategoria: Msza Święta\nLink
 : https://www.lecze-salezjanie.pl/index.php?option=com_jem&view=event&id=3
 804:bertrand-23-msza-gregorianska\n
DTSTART;TZID=Europe/Warsaw:20260505T170000
DTEND;TZID=Europe/Warsaw:20260505T170000
LOCATION:Kościół Maryi Wspomożycielki Wiernych w Suchaczu\,Kielecka 12B\,Su
 chacz\,Poland
SUMMARY:+ Bertrand (23 Msza Gregoriańska)
URL:https://www.lecze-salezjanie.pl/index.php?option=com_jem&view=event&id=
 3804:bertrand-23-msza-gregorianska
END:VEVENT
BEGIN:VEVENT
UID:event3807@Parafia Rzymskokatolicka Najświętszego Serca Jezusowego w Łęc
 zu - Salezjanie
DTSTAMP:20260421T114848Z
CATEGORIES:Msza Święta
DESCRIPTION:+ Bertrand (25 Msza Gregoriańska)\nKategoria: Msza Święta\nLink
 : https://www.lecze-salezjanie.pl/index.php?option=com_jem&view=event&id=3
 807:bertrand-25-msza-gregorianska\n
DTSTART;TZID=Europe/Warsaw:20260507T170000
DTEND;TZID=Europe/Warsaw:20260507T170000
LOCATION:Kościół Maryi Wspomożycielki Wiernych w Suchaczu\,Kielecka 12B\,Su
 chacz\,Poland
SUMMARY:+ Bertrand (25 Msza Gregoriańska)
URL:https://www.lecze-salezjanie.pl/index.php?option=com_jem&view=event&id=
 3807:bertrand-25-msza-gregorianska
END:VEVENT
BEGIN:VEVENT
UID:event3784@Parafia Rzymskokatolicka Najświętszego Serca Jezusowego w Łęc
 zu - Salezjanie
DTSTAMP:20260421T114848Z
CATEGORIES:Msza Święta
DESCRIPTION:+ Bertrand (9 Msza Gregoriańska)\nKategoria: Msza Święta\nLink:
  https://www.lecze-salezjanie.pl/index.php?option=com_jem&view=event&id=37
 84:bertrand-9-msza-gregorianska\n
DTSTART;TZID=Europe/Warsaw:20260421T170000
DTEND;TZID=Europe/Warsaw:20260421T170000
LOCATION:Kościół Maryi Wspomożycielki Wiernych w Suchaczu\,Kielecka 12B\,Su
 chacz\,Poland
SUMMARY:+ Bertrand (9 Msza Gregoriańska)
URL:https://www.lecze-salezjanie.pl/index.php?option=com_jem&view=event&id=
 3784:bertrand-9-msza-gregorianska
END:VEVENT
BEGIN:VEVENT
UID:event3805@Parafia Rzymskokatolicka Najświętszego Serca Jezusowego w Łęc
 zu - Salezjanie
DTSTAMP:20260421T114848Z
CATEGORIES:Msza Święta
DESCRIPTION:+ Grażyna Żochowska (5 Msza Gregoriańska)\nKategoria: Msza Świę
 ta\nLink: https://www.lecze-salezjanie.pl/index.php?option=com_jem&view=ev
 ent&id=3805:grazyna-zochowska-5-msza-gregorianska\n
DTSTART;TZID=Europe/Warsaw:20260505T170000
DTEND;TZID=Europe/Warsaw:20260505T170000
LOCATION:Kościół Maryi Wspomożycielki Wiernych w Suchaczu\,Kielecka 12B\,Su
 chacz\,Poland
SUMMARY:+ Grażyna Żochowska (5 Msza Gregoriańska)
URL:https://www.lecze-salezjanie.pl/index.php?option=com_jem&view=event&id=
 3805:grazyna-zochowska-5-msza-gregorianska
END:VEVENT
BEGIN:VEVENT
UID:event3808@Parafia Rzymskokatolicka Najświętszego Serca Jezusowego w Łęc
 zu - Salezjanie
DTSTAMP:20260421T114848Z
CATEGORIES:Msza Święta
DESCRIPTION:+ Grażyna Żochowska (7 Msza Gregoriańska)\nKategoria: Msza Świę
 ta\nLink: https://www.lecze-salezjanie.pl/index.php?option=com_jem&view=ev
 ent&id=3808:grazyna-zochowska-7-msza-gregorianska\n
DTSTART;TZID=Europe/Warsaw:20260507T170000
DTEND;TZID=Europe/Warsaw:20260507T170000
LOCATION:Kościół Maryi Wspomożycielki Wiernych w Suchaczu\,Kielecka 12B\,Su
 chacz\,Poland
SUMMARY:+ Grażyna Żochowska (7 Msza Gregoriańska)
URL:https://www.lecze-salezjanie.pl/index.php?option=com_jem&view=event&id=
 3808:grazyna-zochowska-7-msza-gregorianska
END:VEVENT
BEGIN:VEVENT
UID:event3792@Parafia Rzymskokatolicka Najświętszego Serca Jezusowego w Łęc
 zu - Salezjanie
DTSTAMP:20260421T114848Z
CATEGORIES:Msza Święta
DESCRIPTION:+ Irena Gładkowska (1 Msza Gregoriańska)\nKategoria: Msza Święt
 a\nLink: https://www.lecze-salezjanie.pl/index.php?option=com_jem&view=eve
 nt&id=3792:irena-gladkowska-1-msza-gregorianska\n
DTSTART;TZID=Europe/Warsaw:20260501T170000
DTEND;TZID=Europe/Warsaw:20260501T170000
LOCATION:Kościół Maryi Wspomożycielki Wiernych w Suchaczu\,Kielecka 12B\,Su
 chacz\,Poland
SUMMARY:+ Irena Gładkowska (1 Msza Gregoriańska)
URL:https://www.lecze-salezjanie.pl/index.php?option=com_jem&view=event&id=
 3792:irena-gladkowska-1-msza-gregorianska
END:VEVENT
BEGIN:VEVENT
UID:event3803@Parafia Rzymskokatolicka Najświętszego Serca Jezusowego w Łęc
 zu - Salezjanie
DTSTAMP:20260421T114848Z
CATEGORIES:Msza Święta
DESCRIPTION:+ Irena Gładkowska (5 Msza Gregoriańska)\nKategoria: Msza Święt
 a\nLink: https://www.lecze-salezjanie.pl/index.php?option=com_jem&view=eve
 nt&id=3803:irena-gladkowska-5-msza-gregorianska\n
DTSTART;TZID=Europe/Warsaw:20260505T170000
DTEND;TZID=Europe/Warsaw:20260505T170000
LOCATION:Kościół Maryi Wspomożycielki Wiernych w Suchaczu\,Kielecka 12B\,Su
 chacz\,Poland
SUMMARY:+ Irena Gładkowska (5 Msza Gregoriańska)
URL:https://www.lecze-salezjanie.pl/index.php?option=com_jem&view=event&id=
 3803:irena-gladkowska-5-msza-gregorianska
END:VEVENT
BEGIN:VEVENT
UID:event3806@Parafia Rzymskokatolicka Najświętszego Serca Jezusowego w Łęc
 zu - Salezjanie
DTSTAMP:20260421T114848Z
CATEGORIES:Msza Święta
DESCRIPTION:+ Irena Gładkowska (7 Msza Gregoriańska)\nKategoria: Msza Święt
 a\nLink: https://www.lecze-salezjanie.pl/index.php?option=com_jem&view=eve
 nt&id=3806:irena-gladkowska-7-msza-gregorianska\n
DTSTART;TZID=Europe/Warsaw:20260507T170000
DTEND;TZID=Europe/Warsaw:20260507T170000
LOCATION:Kościół Maryi Wspomożycielki Wiernych w Suchaczu\,Kielecka 12B\,Su
 chacz\,Poland
SUMMARY:+ Irena Gładkowska (7 Msza Gregoriańska)
URL:https://www.lecze-salezjanie.pl/index.php?option=com_jem&view=event&id=
 3806:irena-gladkowska-7-msza-gregorianska
END:VEVENT
BEGIN:VEVENT
UID:event3785@Parafia Rzymskokatolicka Najświętszego Serca Jezusowego w Łęc
 zu - Salezjanie
DTSTAMP:20260421T114848Z
CATEGORIES:Msza Święta
DESCRIPTION:+ Krzysztof Sobieski\nKategoria: Msza Święta\nLink: https://www
 .lecze-salezjanie.pl/index.php?option=com_jem&view=event&id=3785:krzysztof
 -sobieski\n
DTSTART;TZID=Europe/Warsaw:20260423T170000
DTEND;TZID=Europe/Warsaw:20260423T170000
LOCATION:Kościół Maryi Wspomożycielki Wiernych w Suchaczu\,Kielecka 12B\,Su
 chacz\,Poland
SUMMARY:+ Krzysztof Sobieski
URL:https://www.lecze-salezjanie.pl/index.php?option=com_jem&view=event&id=
 3785:krzysztof-sobieski
END:VEVENT
BEGIN:VEVENT
UID:event3799@Parafia Rzymskokatolicka Najświętszego Serca Jezusowego w Łęc
 zu - Salezjanie
DTSTAMP:20260421T114848Z
CATEGORIES:Msza Święta
DESCRIPTION:O Boże błogosławieństwo i potrzebne łaski dla życzych i zmarłyc
 h członków Koła Żywego Różańca w Suchaczu. O potrzebny dostęp do żywności.
 \nKategoria: Msza Święta\nLink: https://www.lecze-salezjanie.pl/index.php?
 option=com_jem&view=event&id=3799:o-boze-blogoslawienstwo-i-potrzebne-lask
 i-dla-zyczych-i-zmarlych-czlonkow-kola-zywego-rozanca-w-suchaczu-o-potrzeb
 ny-dostep-do-zywnosci\n
DTSTART;TZID=Europe/Warsaw:20260501T170000
DTEND;TZID=Europe/Warsaw:20260501T170000
LOCATION:Kościół Maryi Wspomożycielki Wiernych w Suchaczu\,Kielecka 12B\,Su
 chacz\,Poland
SUMMARY:O Boże błogosławieństwo i potrzebne łaski dla życzych i zmarłych cz
 łonków Koła Żywego Różańca w Suchaczu. O potrzebny dostęp do żywności.
URL:https://www.lecze-salezjanie.pl/index.php?option=com_jem&view=event&id=
 3799:o-boze-blogoslawienstwo-i-potrzebne-laski-dla-zyczych-i-zmarlych-czlo
 nkow-kola-zywego-rozanca-w-suchaczu-o-potrzebny-dostep-do-zywnosci
END:VEVENT
BEGIN:VEVENT
UID:event3797@Parafia Rzymskokatolicka Najświętszego Serca Jezusowego w Łęc
 zu - Salezjanie
DTSTAMP:20260421T114848Z
CATEGORIES:Msza Święta
DESCRIPTION:Za żywych i zmarłych parafian\nKategoria: Msza Święta\nLink: ht
 tps://www.lecze-salezjanie.pl/index.php?option=com_jem&view=event&id=3797:
 za-zywych-i-zmarlych-parafian\n
DTSTART;TZID=Europe/Warsaw:20260421T170000
DTEND;TZID=Europe/Warsaw:20260421T170000
LOCATION:Kościół Maryi Wspomożycielki Wiernych w Suchaczu\,Kielecka 12B\,Su
 chacz\,Poland
SUMMARY:Za żywych i zmarłych parafian
URL:https://www.lecze-salezjanie.pl/index.php?option=com_jem&view=event&id=
 3797:za-zywych-i-zmarlych-parafian
END:VEVENT
END:VCALENDAR